BEGIN:VCALENDAR
VERSION:2.0
PRODID:-//ChociKocht - ECPv4.2.1//NONSGML v1.0//EN
CALSCALE:GREGORIAN
METHOD:PUBLISH
X-WR-CALNAME:ChociKocht
X-ORIGINAL-URL:https://chocikocht.de
X-WR-CALDESC:Events for ChociKocht
BEGIN:VEVENT
DTSTART;TZID=Europe/Berlin:20161126T110000
DTEND;TZID=Europe/Berlin:20161226T230000
DTSTAMP:20260421T193810
CREATED:20161114T175251
LAST-MODIFIED:20161115T160337
UID:5355-1480158000-1482793200@chocikocht.de
SUMMARY:Weihnachtsmarkt Märchenbazar
DESCRIPTION:Endlich ist es wieder so weit. Die Winterzeit naht und so auch der schönste Weihnachtsmarkt Münchens "Märchenbazar". Mit holzig romantischem Flair und einem großen Hauch von Jugend und Abenteuer entführt euch dieses Jahr zum zweiten Mal der Märchenbazar im Dreimühlen in eine neue Welt von Gemütlichkeit und Gemeinschaft.\n\nUnd der Choci liebt diese Welt. Also\, dachte er sich\, er verwöhnt euch wieder täglich mit leckeren indischen Speisen. Es ist für jeden Geschmack was dabei\, Fleisch\, vegetarisch und vegan. Es wird viel regional Bio und Demetergemüse verwendet werden.\n\nFreut euch auf den wohligen und leckeren Gaumenschmaus von Choci\,\n\nGuten Appetit.\n\nMenu:\n\n\tButter Chicken -  zartes Hähnchen in cremiger Tomatensoße (mild scharf) (Fleisch)\n\tGemüsecurry - Kichererbsen in sämiger Soße mit Aubergine\, Zucchini und Kürbis (mild scharf) (vegetarisch)\n\t indische Suppe - Tomaten-Kokos Suppe mit Okra und Mungbohnen (vegan)\n\tChai Tee (like in india)\n\tayurvedische Powerballs (vegan)\n\tChapati und Pappadam\n\twechselnde Überraschungen\n
URL:https://chocikocht.de/event/weihnachtsmarkt-maerchenbazar/
CATEGORIES:Foodstand
ATTACH;FMTTYPE=image/jpeg:https://chocikocht.de/wp-content/uploads/2015/11/12194945_454013968140649_3176790927119742754_o.jpg
END:VEVENT
END:VCALENDAR