BEGIN:VCALENDAR
VERSION:2.0
PRODID:-//ChociKocht - ECPv4.2.1//NONSGML v1.0//EN
CALSCALE:GREGORIAN
METHOD:PUBLISH
X-WR-CALNAME:ChociKocht
X-ORIGINAL-URL:https://chocikocht.de
X-WR-CALDESC:Events for ChociKocht
BEGIN:VEVENT
DTSTART;VALUE=DATE:20171130
DTEND;VALUE=DATE:20171230
DTSTAMP:20260421T193954
CREATED:20171114
LAST-MODIFIED:20171114
UID:5427-1512000000-1514678399@chocikocht.de
SUMMARY:Verkaufsstand: Weihnachtsmarkt Märchenbazar
DESCRIPTION:Hallo alle zusammen\,\n\nab dem 30.11.17 steh ich auf dem schönsten Weihnachtsmarkt der Stand und verkaufe lecker indische Speisen und Snacks. Zum Wärmen biete ich auch noch enn authentischen Chai-Tee an.\n\nKommt mich besuchen und freut euch auf eine entspannte\, kinder- und menschenfreundliche Atmosphäre.\n\nÖffnungszeiten:\n\nMo-Do: 16-23h\n\nFr: 16-1h\n\nSa: 11-1h\n\nSo: 11-21h\n\n \n\nFür nähere Infos zu Konzerten und Veranstaltungen besucht die Website: http://maerchenbazar.de/\n\n \n\nGanz sicher ist schon einmal\, dass es fast jeden Tag Konzerte von alten und neuen Musiktalenten Münchens geben wird. Sonntag ist der Tag der Familie. Eltern können ihre Kinder zum Kaperletheater\, zum Kerzenziehen und zum Basteln bringen.\n\n \n\n 
URL:https://chocikocht.de/event/verkaufsstand-weihnachtsmarkt-maerchenbazar/
CATEGORIES:Foodstand
END:VEVENT
END:VCALENDAR