BEGIN:VCALENDAR
VERSION:2.0
PRODID:-//ChociKocht - ECPv4.2.1//NONSGML v1.0//EN
CALSCALE:GREGORIAN
METHOD:PUBLISH
X-WR-CALNAME:ChociKocht
X-ORIGINAL-URL:https://chocikocht.de
X-WR-CALDESC:Events for ChociKocht
BEGIN:VEVENT
DTSTART;TZID=Europe/Berlin:20160825T190000
DTEND;TZID=Europe/Berlin:20160825T230000
DTSTAMP:20260421T212651
CREATED:20160819T123611
LAST-MODIFIED:20160830T123440
UID:5149-1472151600-1472166000@chocikocht.de
SUMMARY:Supperclub - das feine Vietnam im sommerlichen Garten
DESCRIPTION:Hallo meine Freunde\,\n\ndie beliebten Supperclubs mit Kurkuma Karma gehen in die nächste Runde.\n\nWir laden euch zu feiner vietnamesischer Küche ein und nutzen dafür die letzte sonnige Woche in München.\n\nDer Ort wird der wunderschöne Garten in Berg am Laim bei meiner Freundin Jasmin - Kurkuma Karma sein.\n\nDas Ganze wird am kommenden Donnerstag stattfinden. Das ist der 25.08.16.\n\n \n\n \nDAS MENU\nAppetizer\nFrische Sommerrollen mit Shrimps\, zum Dippen dazu süße Chilisoße und Erdnusssoße\nVorspeise\nFeine Reiscrepes mit zweierlei Füllung - Schwein und Champignon\nHauptspeise\nRinderfiletstreifen in süßer Sojasoße mit knackigem Asiagemüse mit gerösteten Sesamkörnern\nNachspeise\nIngwerjoghurt mit exotischem Fruchtsalat und Mangoeis\n\n\nWeinbegleitung inklusive. Wer möchte kann natürlich auch seinen eigenen Schluck mit oder ohne Alkohol mitbringen.\nAlles ist mit viel Liebe zubereitet. Wer kommen möchte soll mir bitte eine Email an choci@chocikocht.de senden. Mit der Bestätigungsemail erfahrt ihr die weiteren Details.\nich freue mich auf einen leckeren Abend\, der Choci
URL:https://chocikocht.de/event/supperclub-das-feine-vietnam-im-sommerlichen-garten/
CATEGORIES:Supper Club
END:VEVENT
END:VCALENDAR