BEGIN:VCALENDAR
VERSION:2.0
PRODID:-//ChociKocht - ECPv4.2.1//NONSGML v1.0//EN
CALSCALE:GREGORIAN
METHOD:PUBLISH
X-WR-CALNAME:ChociKocht
X-ORIGINAL-URL:https://chocikocht.de
X-WR-CALDESC:Events for ChociKocht
BEGIN:VEVENT
DTSTART;TZID=Europe/Berlin:20161015T190000
DTEND;TZID=Europe/Berlin:20161015T220000
DTSTAMP:20260421T194133
CREATED:20160929T123745
LAST-MODIFIED:20161005T083508
UID:5325-1476558000-1476568800@chocikocht.de
SUMMARY:Supper Club - Vietnam Fusion
DESCRIPTION:Hallo meine Schlemmerfreunde\,\n\nbeim Supper Club am 15.10. entführen euch das Duo Dominik und Choci in die Frische und Vielfalt Vietnams. Alle 5 Gänge werden an Vietnam erinnern und eine kleine kreative Überraschung bereithalten. Das Ganze wird in einer privaten Location im schönen München stattfinden.  Meldet euch schnell an\, die Plätze sind stark limitiert.\n\nOrt: München\, zentral\n Datum: 15.10.16\n Zeit: 19 - 22Uhr\n\n \n\nMenu: \nPho - Klare Suppe mit wilden Kräutern\n\nRinderfiletcarpaccio mit Fischsaucendip  \nTartar vom Saibling mit Wasabischaum und Papayasalat\nRosa Schweinefilet mit Koriander-Zitronengras-Mantel\, dazu knusprige Reiscrepes mit Shrimps\nMatcha-Cheese-Cake mit Limetten-Kokos-Sorbet\n\n \n\nDazu gibt es noch Getränke und eine Weinbegleitung. Eine Spende von 50 Euro und ihr bekommt das ganze Menu inklusive Wein.\n\nFür die  Anmeldung schreibt bitte eine Email an choci@chocikocht.de und ihr bekommt eine Email mit Details zum Abend.\n\n \n\n 
URL:https://chocikocht.de/event/supper-club-vietnam-fusion/
CATEGORIES:Supper Club
ATTACH;FMTTYPE=image/jpeg:https://chocikocht.de/wp-content/uploads/2016/09/web-Tartar.jpg
END:VEVENT
END:VCALENDAR