BEGIN:VCALENDAR
VERSION:2.0
PRODID:-//ChociKocht - ECPv4.2.1//NONSGML v1.0//EN
CALSCALE:GREGORIAN
METHOD:PUBLISH
X-WR-CALNAME:ChociKocht
X-ORIGINAL-URL:https://chocikocht.de
X-WR-CALDESC:Events for ChociKocht
BEGIN:VEVENT
DTSTART;TZID=Europe/Berlin:20160730T170000
DTEND;TZID=Europe/Berlin:20160730T220000
DTSTAMP:20260421T225701
CREATED:20160810T081914
LAST-MODIFIED:20160830T124930
UID:5078-1469898000-1469916000@chocikocht.de
SUMMARY:Privat - G´Tag
DESCRIPTION:Ein privater Geburtstag - 18 Personen\n\nIndisch-Ayurvedisches Buffet mit Grillen im Garten.
URL:https://chocikocht.de/event/privat-gtag/
CATEGORIES:Geburtstag
END:VEVENT
END:VCALENDAR