BEGIN:VCALENDAR
VERSION:2.0
PRODID:-//ChociKocht - ECPv4.2.1//NONSGML v1.0//EN
CALSCALE:GREGORIAN
METHOD:PUBLISH
X-WR-CALNAME:ChociKocht
X-ORIGINAL-URL:https://chocikocht.de
X-WR-CALDESC:Events for ChociKocht
BEGIN:VEVENT
DTSTART;TZID=Europe/Berlin:20160812T190000
DTEND;TZID=Europe/Berlin:20160812T230000
DTSTAMP:20260421T210519
CREATED:20160714T092655
LAST-MODIFIED:20160830T124845
UID:5052-1471028400-1471042800@chocikocht.de
SUMMARY:Kochkurs im Kochhaus - Die Gewürze Indiens und Sri Lankas
DESCRIPTION:LETZTE MÖGLICHKEIT ZUR ANMELDUNG\n\n \n\nKochkurs im Kochhaus Haidhausen München - Die Gewürze Indiens und Sri Lankas\n\n \n\n 
URL:https://chocikocht.de/event/kochkurs/
LOCATION:Weißenburger Str. 26\, München\, 81667\, Germany
CATEGORIES:Kochkurse
END:VEVENT
END:VCALENDAR