BEGIN:VCALENDAR
VERSION:2.0
PRODID:-//ChociKocht - ECPv4.2.1//NONSGML v1.0//EN
CALSCALE:GREGORIAN
METHOD:PUBLISH
X-WR-CALNAME:ChociKocht
X-ORIGINAL-URL:https://chocikocht.de
X-WR-CALDESC:Events for ChociKocht
BEGIN:VEVENT
DTSTART;TZID=Europe/Berlin:20180205T180000
DTEND;TZID=Europe/Berlin:20180205T220000
DTSTAMP:20260421T191331
CREATED:20171114T143422
LAST-MODIFIED:20171114T143422
UID:5419-1517853600-1517868000@chocikocht.de
SUMMARY:Kochkurs: Sushi
DESCRIPTION:Sushi\n\nWissen Sie\, wie lange die Ausbildung zum Sushi-Meister dauert? Sechs bis zehn Jahre. In den ersten Jahren konzentrieren sich die Lehrlinge vor allem darauf\, den Reis in der richtigen Perfektion zu waschen. Anschließend kommen die Schneidetechnik und die Sicherung der Qualität der Lebensmittel. Doch so lange wollen wir Sie nicht zum Meister ausbilden.\n\n \n\nFür die Zubereitung zu Hause ganz nach Ihrem Geschmack empfehlen wir Ihnen unseren Sushi-Kurs im München kocht!\, wo Sie die Grundlagen des Einkaufs und des Rollens an einem Abend ganz entspannt bei einem Glas Wein erlernen und anschließend verkosten.\n\nhttp://www.muenchenkocht.de/kochkurse/sushi/
URL:https://chocikocht.de/event/kochkurs-sushi/
END:VEVENT
END:VCALENDAR