BEGIN:VCALENDAR
VERSION:2.0
PRODID:-//ChociKocht - ECPv4.2.1//NONSGML v1.0//EN
CALSCALE:GREGORIAN
METHOD:PUBLISH
X-WR-CALNAME:ChociKocht
X-ORIGINAL-URL:https://chocikocht.de
X-WR-CALDESC:Events for ChociKocht
BEGIN:VEVENT
DTSTART;TZID=Europe/Berlin:20190116T190000
DTEND;TZID=Europe/Berlin:20190116T230000
DTSTAMP:20260421T175847
CREATED:20181204T124353
LAST-MODIFIED:20181204T124450
UID:5529-1547665200-1547679600@chocikocht.de
SUMMARY:Kochkurs Südindien im Kochhaus
DESCRIPTION:EXOTIC INDIA - EINE REISE NACH SÜDINDIEN\nIHR MENÜ\nJoghurtchutney\n***\nRote Beete Chutney\n***\nSüdindisches Dal aus roten Linsen\n***\nGebratene Okraschoten mit Kokos\n***\nGarnelen Curry nach tamilischer Art\n***\nDuftender Basmatireis mit Zitrone und Cashew\n\nhttps://www.kochhaus.de/kochkurse/muenchen/kochkurs-exotic-india-eine-reise-nach-suedindien-oxid-7.html
URL:https://chocikocht.de/event/kochkurs-suedindien-im-kochhaus/
CATEGORIES:Kochkurse
END:VEVENT
END:VCALENDAR