BEGIN:VCALENDAR
VERSION:2.0
PRODID:-//ChociKocht - ECPv4.2.1//NONSGML v1.0//EN
CALSCALE:GREGORIAN
METHOD:PUBLISH
X-WR-CALNAME:ChociKocht
X-ORIGINAL-URL:https://chocikocht.de
X-WR-CALDESC:Events for ChociKocht
BEGIN:VEVENT
DTSTART;TZID=Europe/Berlin:20180416T180000
DTEND;TZID=Europe/Berlin:20180416T220000
DTSTAMP:20260421T173352
CREATED:20171114T142905
LAST-MODIFIED:20171114T142905
UID:5417-1523901600-1523916000@chocikocht.de
SUMMARY:Kochkurs: Korea
DESCRIPTION:Korea\n\nWoran denken Sie bei der Küche Koreas? Wenn Sie nicht ortskundig sind\, ist Ihnen vielleicht noch Kimchi ein Begriff\, dabei hat die koreanische Küche so viel mehr zu bieten.\n\n \n\nEntdecken Sie in unserem koreanischen Kochkurs im München kocht! die exotische Landesküche\, genießen Sie neue\, fremde Geschmäcker und erleben Sie die gesunden und frischen Spezialitäten des fernen Ostens. Sie werden begeistert sein!\n\nhttp://www.muenchenkocht.de/kochkurse/koreanische-kueche/
URL:https://chocikocht.de/event/kochkurs-korea-2/
END:VEVENT
END:VCALENDAR