BEGIN:VCALENDAR
VERSION:2.0
PRODID:-//ChociKocht - ECPv4.2.1//NONSGML v1.0//EN
CALSCALE:GREGORIAN
METHOD:PUBLISH
X-WR-CALNAME:ChociKocht
X-ORIGINAL-URL:https://chocikocht.de
X-WR-CALDESC:Events for ChociKocht
BEGIN:VEVENT
DTSTART;TZID=Europe/Berlin:20161113T190000
DTEND;TZID=Europe/Berlin:20161113T230000
DTSTAMP:20260421T194133
CREATED:20160929T125610
LAST-MODIFIED:20161005T194945
UID:5342-1479063600-1479078000@chocikocht.de
SUMMARY:Kochkurs im Kochhaus - Südindien
DESCRIPTION:Tandoori\, Curry\, Kurkuma\, Cumin\, Masala\, Lassi - die ganze Exotik\, Farbenfrische und Vielfalt der Indischen Küche entdecken - ein Feuerwerk für die Sinne. Unsere Kochkurs Serie "Exotic India" verführt Sie mit geheimnisvollen Aromen und aufregenden Gerichten.\n\nUnser Koch Choci entführt Sie diesmal in die Küche Südindiens. Wir besuchen Tamil Nadu\, den südlichsten Staat Indiens und kreieren ein Gericht\, so wie es in Indien üblich ist. Wir trennen nicht zwischen Vor-\, Haupt und Nachspeise\, sondern wir zaubern ein Gericht mit vielfältigen Komponenten und lernen so die authentische Küche und die Essgewohnheiten Indiens kennen. Dabei wird Choci Tipps und Tricks preisgeben\, die er bei seinen Reisen durch Indien gesammelt hat.\n\n \n\nHier geht es zur Buchung: http://www.kochhaus.de/kochkurse/muenchen/kochkurs-exotic-india-eine-reise-nach-suedindien.html
URL:https://chocikocht.de/event/kochkurs-im-kochhaus-suedindien/
CATEGORIES:Kochkurse
ATTACH;FMTTYPE=image/jpeg:https://chocikocht.de/wp-content/uploads/2016/08/Kochhaus-Haidhausen.jpg
END:VEVENT
END:VCALENDAR