BEGIN:VCALENDAR
VERSION:2.0
PRODID:-//ChociKocht - ECPv4.2.1//NONSGML v1.0//EN
CALSCALE:GREGORIAN
METHOD:PUBLISH
X-WR-CALNAME:ChociKocht
X-ORIGINAL-URL:https://chocikocht.de
X-WR-CALDESC:Events for ChociKocht
BEGIN:VEVENT
DTSTART;TZID=Europe/Berlin:20161116T190000
DTEND;TZID=Europe/Berlin:20161116T230000
DTSTAMP:20260421T194302
CREATED:20160818T150407
LAST-MODIFIED:20160908T223058
UID:5146-1479322800-1479337200@chocikocht.de
SUMMARY:Kochkurs im Kochhaus Haidhausen – Indien und Sri Lanka
DESCRIPTION:\n\nKochkurs im Kochhaus Haidhausen München – Die Gewürze Indiens und Sri Lankas\n\n \n\nHier stelle ich euch anhand eines 3-Gänge Menus die die wichtigsten Gewürze der indischen Küche vor.\n\n
URL:https://chocikocht.de/event/kochkurs-im-kochhaus-haidhausen-indien-und-sri-lanka-2/
CATEGORIES:Kochkurse
ATTACH;FMTTYPE=image/jpeg:https://chocikocht.de/wp-content/uploads/2016/08/Kochhaus-Haidhausen.jpg
END:VEVENT
END:VCALENDAR