BEGIN:VCALENDAR
VERSION:2.0
PRODID:-//ChociKocht - ECPv4.2.1//NONSGML v1.0//EN
CALSCALE:GREGORIAN
METHOD:PUBLISH
X-WR-CALNAME:ChociKocht
X-ORIGINAL-URL:https://chocikocht.de
X-WR-CALDESC:Events for ChociKocht
BEGIN:VEVENT
DTSTART;TZID=Europe/Berlin:20180222T190000
DTEND;TZID=Europe/Berlin:20180222T230000
DTSTAMP:20260421T193002
CREATED:20171114T140926
LAST-MODIFIED:20171115T131657
UID:5407-1519326000-1519340400@chocikocht.de
SUMMARY:Kochkurs: frische vietnamesische Küche
DESCRIPTION:DIE Trendküche der letzten Jahre: Die leichte\, ausgewogene und immer frisch-exotische vietnamesische Küche. Zart duftende Currys\, die klassische Pho. Eine Vielfalt von Kräutern und Aromen. Von der Garküche direkt in die heimischen Kochtöpfe.\n\nMenu\nPho Ga –das Vietnamesische Nationalgericht: würzige Hühnersuppe mit der gesunden Frische Vietnams\n***\nFeine Streifen von der Rinderhüfte mit karamelliesierten Zwiebeln in süßer Sojasoße mit grünem Asia - Gemüse\n***\nExotischer Fruchtsalat auf Ingwerjoghurt\n\nZur Anmeldung: https://www.kochhaus.de/kochkurse/muenchen/
URL:https://chocikocht.de/event/kochkurs-frische-vietnamesische-kueche-2/
END:VEVENT
END:VCALENDAR