BEGIN:VCALENDAR
VERSION:2.0
PRODID:-//ChociKocht - ECPv4.2.1//NONSGML v1.0//EN
CALSCALE:GREGORIAN
METHOD:PUBLISH
X-WR-CALNAME:ChociKocht
X-ORIGINAL-URL:https://chocikocht.de
X-WR-CALDESC:Events for ChociKocht
BEGIN:VEVENT
DTSTART;TZID=Europe/Berlin:20180308T190000
DTEND;TZID=Europe/Berlin:20180308T230000
DTSTAMP:20260421T175017
CREATED:20171114T141406
LAST-MODIFIED:20171115T131557
UID:5409-1520535600-1520550000@chocikocht.de
SUMMARY:Kochkurs: Eine kulinarische Reise nach Korea
DESCRIPTION:Choci stellt euch die authentische Küche Koreas vor. Erleben Sie die asistischen Gewürz und Geschmacksgeheimnisse des kombiniert mit durchaus westlichen Einflüssen ergibt sich eine variantenreiche moderne und vielfältige Küche\, die insbesondere in den Metropolen große Erfolge feiert.\nSeetangsuppe mit Rind und Tofu\n***\nscharf eingelegte Gurke\n***\nBibimbap – das koreanische Nationalgericht mit Klebereis\, feinem Gemüse\, Rind und Ei\n***\nSesam-Nuss-Ecken mit exotischem Obst\n\nZur Anmeldung: https://www.kochhaus.de/kochkurse/muenchen/
URL:https://chocikocht.de/event/kochkurs-eine-kulinarische-reise-nach-korea/
END:VEVENT
END:VCALENDAR