BEGIN:VCALENDAR
VERSION:2.0
PRODID:-//ChociKocht - ECPv4.2.1//NONSGML v1.0//EN
CALSCALE:GREGORIAN
METHOD:PUBLISH
X-WR-CALNAME:ChociKocht
X-ORIGINAL-URL:https://chocikocht.de
X-WR-CALDESC:Events for ChociKocht
BEGIN:VEVENT
DTSTART;TZID=Europe/Berlin:20160924T130000
DTEND;TZID=Europe/Berlin:20160924T210000
DTSTAMP:20260421T194116
CREATED:20160913T080553
LAST-MODIFIED:20160913T103709
UID:5297-1474722000-1474750800@chocikocht.de
SUMMARY:Indische Leckereien beim Cafe Gans am Wasser
DESCRIPTION:Choci kocht indisch Gans am Wasser\n\nHallo meine Schlemmermäuler\,\n\nweil ich es letzten Sonntag am Gans am Wasser so schön war\, will ich in euch dort bald wieder bekochen.Es wird wieder leckere indische Speisen geben. Das Butter Chicken werden ich wieder anbieten. Es wird eine neue vegetarische Variante geben. Die Toppings werde ich auch leicht ändern.\n\nOrt: Cafe Gans am Wasser (am Mollsee im Westpark)\n Datum und Zeit: 24.09.\, 13 - 21Uhr\n\nWas ich genau zaubere\, werde ich noch bekannt geben. Ich kann auf jeden Fall versprechen\, dass ich viel mehr machen werde. Wer also später kommt\, muss nicht fürchten\, mit hungrigem Magen nach Hause gehen zu müssen.\n\n \n\nGuten Appetit.\n\n 
URL:https://chocikocht.de/event/indischer-leckereien-beim-cafe-gans-am-wasser/
LOCATION:Mollsee im Westpark\, München
CATEGORIES:Foodstand
ATTACH;FMTTYPE=image/jpeg:https://chocikocht.de/wp-content/uploads/2016/09/chocikocht-butter-chicken.jpg
END:VEVENT
END:VCALENDAR