BEGIN:VCALENDAR
VERSION:2.0
PRODID:-//ChociKocht - ECPv4.2.1//NONSGML v1.0//EN
CALSCALE:GREGORIAN
METHOD:PUBLISH
X-WR-CALNAME:ChociKocht
X-ORIGINAL-URL:https://chocikocht.de
X-WR-CALDESC:Events for ChociKocht
BEGIN:VEVENT
DTSTART;TZID=Europe/Berlin:20170109T190000
DTEND;TZID=Europe/Berlin:20170109T230000
DTSTAMP:20260421T194000
CREATED:20161117T162356
LAST-MODIFIED:20161117T165319
UID:5360-1483988400-1484002800@chocikocht.de
SUMMARY:Gewürze Indiens und Sri Lankas
DESCRIPTION:Gewürze Indiens und Sri Lankas\n\nIhr Menü\n\nSüdindisch gewürzte Linsensuppe mit Dattel-Tamarinden Chutney - ein Gewürzkracher wie bei meiner Mutter daheim\n***\nButter Chicken – der indische Klassiker\, saftiges Hähnchen in einer cremigen\, mild scharfen Tomatensoße\, dazu ein Nelken-Kardamom-Reis mit Kurkuma\n***\nMandel-Reis-Kardamom Pudding mit Safran-Kokos-Soße\n\n\nChoci stellt euch die authentische Küche Indiens/Srilankas vor. Die Gerichte sind eine Mischung der eigenen kreativen Küche und Rezepten seiner Mutter. Also wird der Abend so schmecken wie daheim. Es warten viele Geschmackskicks und -tricks auf euch. Ihr werdet lernen\, wie man mit Gewürzen wie Kardamom\, Kreuzkümmel und Koriander kocht und ein Stück Indien nach Hause holt. \n\nZur Anmeldung: http://www.kochhaus.de/kochkurse/muenchen/
URL:https://chocikocht.de/event/gewuerze-indiens-und-sri-lankas/
CATEGORIES:Kochkurse
END:VEVENT
END:VCALENDAR