BEGIN:VCALENDAR
VERSION:2.0
PRODID:-//ChociKocht - ECPv4.2.1//NONSGML v1.0//EN
CALSCALE:GREGORIAN
METHOD:PUBLISH
X-WR-CALNAME:ChociKocht
X-ORIGINAL-URL:https://chocikocht.de
X-WR-CALDESC:Events for ChociKocht
BEGIN:VEVENT
DTSTART;TZID=Europe/Berlin:20170322T190000
DTEND;TZID=Europe/Berlin:20170322T230000
DTSTAMP:20260421T210708
CREATED:20161117T165230
LAST-MODIFIED:20161117T165508
UID:5367-1490209200-1490223600@chocikocht.de
SUMMARY:Gewürze Indiens und Sri Lankas
DESCRIPTION:Choci stellt euch die authentische Küche Indiens/Srilankas vor. Die Gerichte sind eine Mischung der eigenen kreativen Küche und Rezepten seiner Mutter. Also wird der Abend so schmecken wie daheim. Es warten viele Geschmackskicks und -tricks auf euch. Ihr werdet lernen\, wie man mit Gewürzen wie Kardamom\, Kreuzkümmel und Koriander kocht und ein Stück Indien nach Hause holt. \n\n\nIhr Menü\n\nSüdindisch gewürzte Linsensuppe mit Dattel-Tamarinden Chutney - ein Gewürzkracher wie bei meiner Mutter daheim\n***\nButter Chicken – der indische Klassiker\, saftiges Hähnchen in einer cremigen\, mild scharfen Tomatensoße\, dazu ein Nelken-Kardamom-Reis mit Kurkuma\n***\nMandel-Reis-Kardamom Pudding mit Safran-Kokos-Soße\n\nZur Anmeldung: http://www.kochhaus.de/kochkurse/muenchen/\n
URL:https://chocikocht.de/event/gewuerze-indiens-und-sri-lankas-3/
CATEGORIES:Kochkurse
END:VEVENT
END:VCALENDAR