BEGIN:VCALENDAR
VERSION:2.0
PRODID:-//ChociKocht - ECPv4.2.1//NONSGML v1.0//EN
CALSCALE:GREGORIAN
METHOD:PUBLISH
X-WR-CALNAME:ChociKocht
X-ORIGINAL-URL:https://chocikocht.de
X-WR-CALDESC:Events for ChociKocht
BEGIN:VEVENT
DTSTART;VALUE=DATE:20160723
DTEND;VALUE=DATE:20160723
DTSTAMP:20260421T211230
CREATED:20150629
LAST-MODIFIED:20160713
UID:4334-1469232000-1469318399@chocikocht.de
SUMMARY:Ayurvedakoch
DESCRIPTION:Ayurvedakoch während Ayurveda Intensiv Kurs im Ayurveda Institut München
URL:https://chocikocht.de/event/free-cooking-course-day-with-the-chef/
LOCATION:Pirolstr. 7\, München\, 81249\, Germany
CATEGORIES:Kochkurse
END:VEVENT
END:VCALENDAR