BEGIN:VCALENDAR
VERSION:2.0
PRODID:-//ChociKocht - ECPv4.2.1//NONSGML v1.0//EN
CALSCALE:GREGORIAN
METHOD:PUBLISH
X-WR-CALNAME:ChociKocht
X-ORIGINAL-URL:https://chocikocht.de
X-WR-CALDESC:Events for ChociKocht
BEGIN:VEVENT
DTSTART;TZID=Europe/Berlin:20170321T190000
DTEND;TZID=Europe/Berlin:20170321T230000
DTSTAMP:20260421T194051
CREATED:20161117T165029
LAST-MODIFIED:20161117T165451
UID:5366-1490122800-1490137200@chocikocht.de
SUMMARY:Eine kulinarische Reise nach Korea
DESCRIPTION:\n\nIhr Menü\n\nInformationen folgen.\n\n\nChoci stellt euch die authentische Küche Koreas vor. Erleben Sie die asistischen Gewürz und Geschmacksgeheimnisse des kombiniert mit durchaus westlichen Einflüssen ergibt sich eine variantenreiche moderne und vielfältige Küche\, die insbesondere in den Metropolen große Erfolge feiert. 
URL:https://chocikocht.de/event/eine-kulinarische-reise-nach-korea/
CATEGORIES:Kochkurse
END:VEVENT
END:VCALENDAR